BEGIN:VCALENDAR
VERSION:2.0
PRODID:-// - ECPv6.15.13//NONSGML v1.0//EN
CALSCALE:GREGORIAN
METHOD:PUBLISH
X-ORIGINAL-URL:https://muasd.org
X-WR-CALDESC:Events for 
REFRESH-INTERVAL;VALUE=DURATION:PT1H
X-Robots-Tag:noindex
X-PUBLISHED-TTL:PT1H
BEGIN:VTIMEZONE
TZID:America/New_York
BEGIN:DAYLIGHT
TZOFFSETFROM:-0500
TZOFFSETTO:-0400
TZNAME:EDT
DTSTART:20240310T070000
END:DAYLIGHT
BEGIN:STANDARD
TZOFFSETFROM:-0400
TZOFFSETTO:-0500
TZNAME:EST
DTSTART:20241103T060000
END:STANDARD
BEGIN:DAYLIGHT
TZOFFSETFROM:-0500
TZOFFSETTO:-0400
TZNAME:EDT
DTSTART:20250309T070000
END:DAYLIGHT
BEGIN:STANDARD
TZOFFSETFROM:-0400
TZOFFSETTO:-0500
TZNAME:EST
DTSTART:20251102T060000
END:STANDARD
BEGIN:DAYLIGHT
TZOFFSETFROM:-0500
TZOFFSETTO:-0400
TZNAME:EDT
DTSTART:20260308T070000
END:DAYLIGHT
BEGIN:STANDARD
TZOFFSETFROM:-0400
TZOFFSETTO:-0500
TZNAME:EST
DTSTART:20261101T060000
END:STANDARD
BEGIN:DAYLIGHT
TZOFFSETFROM:-0500
TZOFFSETTO:-0400
TZNAME:EDT
DTSTART:20270314T070000
END:DAYLIGHT
BEGIN:STANDARD
TZOFFSETFROM:-0400
TZOFFSETTO:-0500
TZNAME:EST
DTSTART:20271107T060000
END:STANDARD
END:VTIMEZONE
BEGIN:VEVENT
DTSTART;VALUE=DATE:20251223
DTEND;VALUE=DATE:20260103
DTSTAMP:20260421T044216
CREATED:20250829T165920Z
LAST-MODIFIED:20250829T170500Z
UID:11230-1766448000-1767398399@muasd.org
SUMMARY:Winter Holiday Break
DESCRIPTION:Early Dismissal on 12/23 – Elementary 11:10am ; High School 11:30am \n  \nNo School on 12/24 – 1/2 \n  \nHappy Holidays.
URL:https://muasd.org/event/winter-holiday-break/
CATEGORIES:District Wide
END:VEVENT
BEGIN:VEVENT
DTSTART;VALUE=DATE:20260105
DTEND;VALUE=DATE:20260117
DTSTAMP:20260421T044216
CREATED:20250829T170614Z
LAST-MODIFIED:20250829T170813Z
UID:11232-1767571200-1768607999@muasd.org
SUMMARY:Keystone Testing
DESCRIPTION:Keystone testing will be held 1/5 – 1/16
URL:https://muasd.org/event/keystone-testing-2/
CATEGORIES:District Wide
END:VEVENT
BEGIN:VEVENT
DTSTART;VALUE=DATE:20260119
DTEND;VALUE=DATE:20260120
DTSTAMP:20260421T044216
CREATED:20250829T171217Z
LAST-MODIFIED:20250829T171218Z
UID:11234-1768780800-1768867199@muasd.org
SUMMARY:Act 80 Day
DESCRIPTION:No School 1/19
URL:https://muasd.org/event/act-80-day-2/
CATEGORIES:District Wide
END:VEVENT
BEGIN:VEVENT
DTSTART;VALUE=DATE:20260130
DTEND;VALUE=DATE:20260131
DTSTAMP:20260421T044216
CREATED:20250909T144224Z
LAST-MODIFIED:20250909T144317Z
UID:11351-1769731200-1769817599@muasd.org
SUMMARY:Data Day January 30th
DESCRIPTION:Student Early Dismissal \n  \nElementary dismissed @ 11:10am \n  \nHigh School Dismissed @ 11:30am
URL:https://muasd.org/event/data-day-january-30th/
END:VEVENT
END:VCALENDAR